BEGIN:VCALENDAR
VERSION:2.0
PRODID:-//wp-events-plugin.com//7.2.3.1//EN
TZID:Europe/Paris
X-WR-TIMEZONE:Europe/Paris
BEGIN:VEVENT
UID:1500@buy-the-game.fr
DTSTART;TZID=Europe/Paris:20260322T140000
DTEND;TZID=Europe/Paris:20260322T200000
DTSTAMP:20260219T151749Z
URL:https://buy-the-game.fr/evenements/tournoi-age-of-innovation-dice-thro
 ne-3/
SUMMARY:Tournoi Age of innovation - Dice Throne
DESCRIPTION:\n\nDice Throne : The Age of Innovation\nPlongez dans l’unive
 rs compétitif de Dice Throne : The Age of Innovation et participez aux tr
 oisième ranked officielles en France !\nAffrontez des joueurs de tout le 
 pays dans une série de tournois palpitants pour tenter de décrocher le t
 itre de Grand Champion.\n\nRemportez la carte promo : Plateau alternatif d
 e l'artificier. \n\nCalendrier de l'événement The Age of Innovation\nPé
 riode : De janvier à mai 2026.\nFréquence : Un tournoi par mois.\n\nDate
 s des tournois restants :\nDimanche 19 avril\nDimanche 17 mai\n\nChaque to
 urnoi vous rapproche un peu plus du titre ultime.\nNe manquez pas cette op
 portunité unique de tester vos compétences dans des parties intenses et 
 stratégiques.\n\nDétails du tournoi\nFrais de participation (PAF) : 5 
 € par personne.\nFormat : Système "3 ban 1"\, où chaque joueur bannit 
 trois héros avant de choisir son personnage parmi les restants.\nDurée d
 es matchs : 30 minutes.\nNombre de rounds : 8 à 16 joueurs : 4 rounds. 17
  à 64 joueurs : 5 rounds.\nCe format garantit une compétition rapide et 
 stratégique tout en offrant une expérience enrichissante pour les joueur
 s de tous niveaux.\n\n\n\n\n\n\n\nSystème de classement et récompenses\n
 Chaque participant contribue à une cagnotte de points ajoutant 20 points 
 par inscription\, répartis selon la formule officielle de l’éditeur Di
 ce Throne.\n\nClassement de fin de saison : Vos 3 meilleures performances 
 sur les tournois classés de la saison seront prises en compte pour établ
 ir votre score final. Un classement global déterminera les meilleurs joue
 urs de l'Age of Innovation.\n\nGrand Champion : Le joueur ayant obtenu le 
 score le plus élevé à la fin de la saison sera sacré Grand Champion et
  recevra un prix exclusif.\n\nPourquoi participer ?\nUne expérience comp
 étitive unique : Testez vos talents face aux meilleurs joueurs. Des tourn
 ois officiels : Accumulez des points et progressez dans le classement nati
 onal. Des prix exclusifs : Tentez de remporter le prestigieux titre de Gra
 nd Champion.\n\nInscrivez-vous dès maintenant et rejoignez la communauté
  des passionnés de Dice Throne pour une saison inoubliable de stratégie 
 et d’intensité !\n\n
ATTACH;FMTTYPE=image/jpeg:https://buy-the-game.fr/wp-content/uploads/2026/
 01/Evenements-site-1.jpg
CATEGORIES:Soirée jeux
END:VEVENT
BEGIN:VTIMEZONE
TZID:Europe/Paris
X-LIC-LOCATION:Europe/Paris
BEGIN:STANDARD
DTSTART:20251026T020000
TZOFFSETFROM:+0200
TZOFFSETTO:+0100
TZNAME:CET
END:STANDARD
END:VTIMEZONE
END:VCALENDAR